View In:
ArcGIS JavaScript
ArcGIS Online Map Viewer
ArcGIS Earth
ArcMap
View Footprint In:
ArcGIS Online Map Viewer
Service Description: Bismarck_Mosaic_2023
Name: Bismarck_Mosaic_2023
Description:
Single Fused Map Cache: false
Extent:
XMin: 1866198
YMin: 377150
XMax: 1934752
YMax: 461558
Spatial Reference: PROJCS["NAD_1983_2011_StatePlane_North_Dakota_South_FIPS_3302_FtI",GEOGCS["GCS_NAD83_2011",DATUM["D_NAD83_National_Spatial_Reference_System_2011",SPHEROID["GRS_1980",6378137.0,298.257222101]],PRIMEM["Greenwich",0.0],UNIT["Degree",0.0174532925199433]],PROJECTION["Lambert_Conformal_Conic"],PARAMETER["false_easting",1968503.937],PARAMETER["false_northing",0.0],PARAMETER["central_meridian",-100.5],PARAMETER["standard_parallel_1",46.18333333333333],PARAMETER["standard_parallel_2",47.48333333333333],PARAMETER["latitude_of_origin",45.66666666666666],UNIT["Foot",0.3048]]
Initial Extent:
XMin: 1866198
YMin: 377150
XMax: 1934752
YMax: 461558
Spatial Reference: PROJCS["NAD_1983_2011_StatePlane_North_Dakota_South_FIPS_3302_FtI",GEOGCS["GCS_NAD83_2011",DATUM["D_NAD83_National_Spatial_Reference_System_2011",SPHEROID["GRS_1980",6378137.0,298.257222101]],PRIMEM["Greenwich",0.0],UNIT["Degree",0.0174532925199433]],PROJECTION["Lambert_Conformal_Conic"],PARAMETER["false_easting",1968503.937],PARAMETER["false_northing",0.0],PARAMETER["central_meridian",-100.5],PARAMETER["standard_parallel_1",46.18333333333333],PARAMETER["standard_parallel_2",47.48333333333333],PARAMETER["latitude_of_origin",45.66666666666666],UNIT["Foot",0.3048]]
Full Extent:
XMin: 1866198
YMin: 377150
XMax: 1934752
YMax: 461558
Spatial Reference: PROJCS["NAD_1983_2011_StatePlane_North_Dakota_South_FIPS_3302_FtI",GEOGCS["GCS_NAD83_2011",DATUM["D_NAD83_National_Spatial_Reference_System_2011",SPHEROID["GRS_1980",6378137.0,298.257222101]],PRIMEM["Greenwich",0.0],UNIT["Degree",0.0174532925199433]],PROJECTION["Lambert_Conformal_Conic"],PARAMETER["false_easting",1968503.937],PARAMETER["false_northing",0.0],PARAMETER["central_meridian",-100.5],PARAMETER["standard_parallel_1",46.18333333333333],PARAMETER["standard_parallel_2",47.48333333333333],PARAMETER["latitude_of_origin",45.66666666666666],UNIT["Foot",0.3048]]
Pixel Size X: 0.25
Pixel Size Y: 0.25
Band Count: 4
Pixel Type: U8
RasterFunction Infos: {"rasterFunctionInfos": [{
"name": "None",
"description": "",
"help": ""
}]}
Mensuration Capabilities: Basic
Has Histograms: true
Has Colormap: false
Has Multi Dimensions : false
Rendering Rule:
Min Scale: 0
Max Scale: 0
Copyright Text:
Service Data Type: esriImageServiceDataTypeGeneric
Min Values: 0, 0, 0, 0
Max Values: 188, 190, 196, 255
Mean Values: 124.35556844548, 122.56013147718, 127.03866976025, 235.28340226578
Standard Deviation Values: 20.592514303176, 18.135640323519, 17.664355081855, 67.447176555083
Object ID Field:
Fields:
None
Default Mosaic Method: Center
Allowed Mosaic Methods:
SortField:
SortValue: null
Mosaic Operator: First
Default Compression Quality: 75
Default Resampling Method: Bilinear
Max Record Count: null
Max Image Height: 4100
Max Image Width: 15000
Max Download Image Count: null
Max Mosaic Image Count: null
Allow Raster Function: true
Allow Copy: true
Allow Analysis: true
Allow Compute TiePoints: false
Supports Statistics: false
Supports Advanced Queries: false
Use StandardizedQueries: true
Raster Type Infos:
Name: Raster Dataset
Description: Supports all ArcGIS Raster Datasets
Help:
Has Raster Attribute Table: false
Edit Fields Info: null
Ownership Based AccessControl For Rasters: null
Child Resources:
Info
Histograms
Statistics
Key Properties
Legend
Raster Function Infos
Supported Operations:
Export Image
Identify
Measure
Compute Histograms
Compute Statistics Histograms
Get Samples
Compute Class Statistics
Query Boundary
Compute Pixel Location
Compute Angles
Validate
Project