{
 "currentVersion": 11.0,
 "serviceDescription": "Bismarck_Mosaic_2023",
 "name": "Bismarck_Mosaic_2023",
 "description": "",
 "extent": {
  "xmin": 1866198,
  "ymin": 377150,
  "xmax": 1934752,
  "ymax": 461558,
  "spatialReference": {
   "wkt": "PROJCS[\"NAD_1983_2011_StatePlane_North_Dakota_South_FIPS_3302_FtI\",GEOGCS[\"GCS_NAD83_2011\",DATUM[\"D_NAD83_National_Spatial_Reference_System_2011\",SPHEROID[\"GRS_1980\",6378137.0,298.257222101]],PRIMEM[\"Greenwich\",0.0],UNIT[\"Degree\",0.0174532925199433]],PROJECTION[\"Lambert_Conformal_Conic\"],PARAMETER[\"false_easting\",1968503.937],PARAMETER[\"false_northing\",0.0],PARAMETER[\"central_meridian\",-100.5],PARAMETER[\"standard_parallel_1\",46.18333333333333],PARAMETER[\"standard_parallel_2\",47.48333333333333],PARAMETER[\"latitude_of_origin\",45.66666666666666],UNIT[\"Foot\",0.3048]]"
  }
 },
 "initialExtent": {
  "xmin": 1866198,
  "ymin": 377150,
  "xmax": 1934752,
  "ymax": 461558,
  "spatialReference": {
   "wkt": "PROJCS[\"NAD_1983_2011_StatePlane_North_Dakota_South_FIPS_3302_FtI\",GEOGCS[\"GCS_NAD83_2011\",DATUM[\"D_NAD83_National_Spatial_Reference_System_2011\",SPHEROID[\"GRS_1980\",6378137.0,298.257222101]],PRIMEM[\"Greenwich\",0.0],UNIT[\"Degree\",0.0174532925199433]],PROJECTION[\"Lambert_Conformal_Conic\"],PARAMETER[\"false_easting\",1968503.937],PARAMETER[\"false_northing\",0.0],PARAMETER[\"central_meridian\",-100.5],PARAMETER[\"standard_parallel_1\",46.18333333333333],PARAMETER[\"standard_parallel_2\",47.48333333333333],PARAMETER[\"latitude_of_origin\",45.66666666666666],UNIT[\"Foot\",0.3048]]"
  }
 },
 "fullExtent": {
  "xmin": 1866198,
  "ymin": 377150,
  "xmax": 1934752,
  "ymax": 461558,
  "spatialReference": {
   "wkt": "PROJCS[\"NAD_1983_2011_StatePlane_North_Dakota_South_FIPS_3302_FtI\",GEOGCS[\"GCS_NAD83_2011\",DATUM[\"D_NAD83_National_Spatial_Reference_System_2011\",SPHEROID[\"GRS_1980\",6378137.0,298.257222101]],PRIMEM[\"Greenwich\",0.0],UNIT[\"Degree\",0.0174532925199433]],PROJECTION[\"Lambert_Conformal_Conic\"],PARAMETER[\"false_easting\",1968503.937],PARAMETER[\"false_northing\",0.0],PARAMETER[\"central_meridian\",-100.5],PARAMETER[\"standard_parallel_1\",46.18333333333333],PARAMETER[\"standard_parallel_2\",47.48333333333333],PARAMETER[\"latitude_of_origin\",45.66666666666666],UNIT[\"Foot\",0.3048]]"
  }
 },
 "sortableFields": "",
 "bandCount": 4,
 "pixelType": "U8",
 "minValues": [
  0,
  0,
  0,
  0
 ],
 "maxValues": [
  188,
  190,
  196,
  255
 ],
 "meanValues": [
  124.35556844548,
  122.56013147718,
  127.03866976025,
  235.28340226578
 ],
 "stdvValues": [
  20.592514303176,
  18.135640323519,
  17.664355081855,
  67.447176555083
 ],
 "hasMultidimensions": false,
 "pixelSizeX": 0.25,
 "pixelSizeY": 0.25,
 "datasetFormat": "MrSID",
 "uncompressedSize": 370336386048,
 "blockWidth": 1024,
 "blockHeight": 128,
 "compressionType": "Wavelet (MG4)",
 "bandNames": [
  "Band_1",
  "Band_2",
  "Band_3",
  "Band_4"
 ],
 "allowCopy": true,
 "allowAnalysis": true,
 "minPixelSize": 0,
 "maxPixelSize": 0,
 "copyrightText": "",
 "serviceDataType": "esriImageServiceDataTypeGeneric",
 "serviceSourceType": "esriImageServiceSourceTypeDataset",
 "objectIdField": "",
 "fields": [],
 "capabilities": "Image,Metadata,Mensuration",
 "defaultMosaicMethod": "Center",
 "allowedMosaicMethods": "",
 "sortField": "",
 "sortValue": null,
 "sortAscending": true,
 "mosaicOperator": "First",
 "defaultCompressionQuality": 75,
 "defaultResamplingMethod": "Bilinear",
 "maxImageHeight": 4100,
 "maxImageWidth": 15000,
 "allowRasterFunction": true,
 "rasterFunctionInfos": [
  {
   "name": "None",
   "description": "",
   "help": ""
  }
 ],
 "rasterTypeInfos": [
  {
   "name": "Raster Dataset",
   "description": "Supports all ArcGIS Raster Datasets",
   "help": ""
  }
 ],
 "mensurationCapabilities": "Basic",
 "hasHistograms": true,
 "hasColormap": false,
 "hasRasterAttributeTable": false,
 "minScale": 0,
 "maxScale": 0,
 "exportTilesAllowed": false,
 "supportsStatistics": false,
 "supportsAdvancedQueries": false,
 "editFieldsInfo": null,
 "ownershipBasedAccessControlForRasters": null,
 "allowComputeTiePoints": false,
 "useStandardizedQueries": true,
 "advancedQueryCapabilities": {
  "useStandardizedQueries": true,
  "supportsStatistics": false,
  "supportsOrderBy": false,
  "supportsDistinct": false,
  "supportsPagination": false
 },
 "spatialReference": {
  "wkt": "PROJCS[\"NAD_1983_2011_StatePlane_North_Dakota_South_FIPS_3302_FtI\",GEOGCS[\"GCS_NAD83_2011\",DATUM[\"D_NAD83_National_Spatial_Reference_System_2011\",SPHEROID[\"GRS_1980\",6378137.0,298.257222101]],PRIMEM[\"Greenwich\",0.0],UNIT[\"Degree\",0.0174532925199433]],PROJECTION[\"Lambert_Conformal_Conic\"],PARAMETER[\"false_easting\",1968503.937],PARAMETER[\"false_northing\",0.0],PARAMETER[\"central_meridian\",-100.5],PARAMETER[\"standard_parallel_1\",46.18333333333333],PARAMETER[\"standard_parallel_2\",47.48333333333333],PARAMETER[\"latitude_of_origin\",45.66666666666666],UNIT[\"Foot\",0.3048]]"
 }
}
